BEGIN:VCALENDAR
VERSION:2.0
PRODID:-//eventon.com NONSGML v1.0//EN
CALSCALE:GREGORIAN
METHOD:PUBLISH
BEGIN:VEVENT
UID:69e722e570f3c
DTSTAMP:20260421T071029Z
DTSTART:20260421T173000Z
DTEND:20260421T193000Z
LOCATION:
SUMMARY:Ich hasse Menschen. Eine Fortpflanzung
DESCRIPTION:Ich hasse Menschen. Eine Fortpflanzung\nhttps://juliusfischer.d
 e/events/ich-hasse-menschen-eine-fortpflanzung-23/
URL:https://juliusfischer.de/events/ich-hasse-menschen-eine-fortpflanzung-23/
END:VEVENT
END:VCALENDAR