BEGIN:VCALENDAR
VERSION:2.0
PRODID:-//eventon.com NONSGML v1.0//EN
CALSCALE:GREGORIAN
METHOD:PUBLISH
BEGIN:VEVENT
UID:69e794d73e2cd
DTSTAMP:20260421T151639Z
DTSTART:20260427T180000Z
DTEND:20260427T200000Z
LOCATION:
SUMMARY:Ich hasse Menschen. Eine Fortpflanzung.
DESCRIPTION:Ich hasse Menschen. Eine Fortpflanzung.\nhttps://juliusfischer.
 de/events/ich-hasse-menschen-eine-fortpflanzung-19/
URL:https://juliusfischer.de/events/ich-hasse-menschen-eine-fortpflanzung-19/
END:VEVENT
END:VCALENDAR