BEGIN:VCALENDAR
VERSION:2.0
PRODID:-//eventon.com NONSGML v1.0//EN
CALSCALE:GREGORIAN
METHOD:PUBLISH
BEGIN:VEVENT
UID:69e7233ce6e7a
DTSTAMP:20260421T071156Z
DTSTART:20260819T183000Z
DTEND:20260819T203000Z
LOCATION:
SUMMARY:Ich hasse Menschen. Eine Fortpflanzung
DESCRIPTION:Ich hasse Menschen. Eine Fortpflanzung\nhttps://juliusfischer.d
 e/events/ich-hasse-menschen-eine-fortpflanzung-18/
URL:https://juliusfischer.de/events/ich-hasse-menschen-eine-fortpflanzung-18/
END:VEVENT
END:VCALENDAR