BEGIN:VCALENDAR
VERSION:2.0
PRODID:-//eventon.com NONSGML v1.0//EN
CALSCALE:GREGORIAN
METHOD:PUBLISH
BEGIN:VEVENT
UID:69e7234d4c05f
DTSTAMP:20260421T071213Z
DTSTART:20260515T180000Z
DTEND:20260515T200000Z
LOCATION:
SUMMARY:Ich hasse Menschen. Eine Fortpflanzung.
DESCRIPTION:Ich hasse Menschen. Eine Fortpflanzung.\nhttps://juliusfischer.
 de/events/ich-hasse-menschen-eine-fortpflanzung-13/
URL:https://juliusfischer.de/events/ich-hasse-menschen-eine-fortpflanzung-13/
END:VEVENT
END:VCALENDAR