BEGIN:VCALENDAR
VERSION:2.0
PRODID:-//eventon.com NONSGML v1.0//EN
CALSCALE:GREGORIAN
METHOD:PUBLISH
BEGIN:VEVENT
UID:69e7233ca8fce
DTSTAMP:20260421T071156Z
DTSTART:20260514T180000Z
DTEND:20260514T200000Z
LOCATION:
SUMMARY:Ich hasse Menschen. Eine Fortpflanzung.
DESCRIPTION:Ich hasse Menschen. Eine Fortpflanzung.\nhttps://juliusfischer.
 de/events/ich-hasse-menschen-eine-fortpflanzung-12/
URL:https://juliusfischer.de/events/ich-hasse-menschen-eine-fortpflanzung-12/
END:VEVENT
END:VCALENDAR