BEGIN:VCALENDAR
VERSION:2.0
PRODID:-//eventon.com NONSGML v1.0//EN
CALSCALE:GREGORIAN
METHOD:PUBLISH
BEGIN:VEVENT
UID:69e722e5b8bfe
DTSTAMP:20260421T071029Z
DTSTART:20260430T180000Z
DTEND:20260430T200000Z
LOCATION:
SUMMARY:Ich hasse Menschen. Eine Fortpflanzung.
DESCRIPTION:Ich hasse Menschen. Eine Fortpflanzung.\nhttps://juliusfischer.
 de/events/ich-hasse-menschen-eine-fortpflanzung-8/
URL:https://juliusfischer.de/events/ich-hasse-menschen-eine-fortpflanzung-8/
END:VEVENT
END:VCALENDAR