BEGIN:VCALENDAR
VERSION:2.0
PRODID:-//eventon.com NONSGML v1.0//EN
CALSCALE:GREGORIAN
METHOD:PUBLISH
BEGIN:VEVENT
UID:69e722ef7b067
DTSTAMP:20260421T071039Z
DTSTART:20260422T180000Z
DTEND:20260422T200000Z
LOCATION:
SUMMARY:Ich hasse Menschen. Eine Fortpflanzung.
DESCRIPTION:Ich hasse Menschen. Eine Fortpflanzung.\nhttps://juliusfischer.
 de/events/ich-hasse-menschen-eine-fortpflanzung-5/
URL:https://juliusfischer.de/events/ich-hasse-menschen-eine-fortpflanzung-5/
END:VEVENT
END:VCALENDAR